Workbook
Name Print: #REF!
Name Print: #REF!
Name Print_1: #REF!
Name Print_1: #REF!
Name Print_12: #REF!
Name Print_12: #REF!
Name Print_2: #REF!
Name Print_2: #REF!
Name PRINT_3: #REF!
Name PRINT_3: #REF!
Name PRINT_4: #REF!
Name PRINT_4: #REF!
Name PRINT_ADMINISTR: #REF!
Name PRINT_ADMINISTR: #REF!
Name PRINT_ALL: #REF!
Name PRINT_ALL: #REF!
Name Print_area_M1: '[15]Income Statement'!#REF!
Name Print_area_M1: '[15]Income Statement'!#REF!
Name Print_Area_MI: #REF!
Name Print_Area_MI: #REF!
Name print_area_mi01: '[15]Income Statement'!#REF!
Name print_area_mi01: '[15]Income Statement'!#REF!
Name Print_Area_MI1: '[15]Income Statement'!#REF!
Name Print_Area_MI1: '[15]Income Statement'!#REF!
Name print_area_mi1a: '[15]Income Statement'!#REF!
Name print_area_mi1a: '[15]Income Statement'!#REF!
Name Print_area_MI2: '[15]Income Statement'!#REF!
Name Print_area_MI2: '[15]Income Statement'!#REF!
Name print_area_mi3: '[15]Income Statement'!#REF!
Name print_area_mi3: '[15]Income Statement'!#REF!
Name print_area_mia: '[15]Income Statement'!#REF!
Name print_area_mia: '[15]Income Statement'!#REF!
Name print_area_mii: '[15]Income Statement'!#REF!
Name print_area_mii: '[15]Income Statement'!#REF!
Name Print_Area_Reset: #N/A
Name print_areaMI1c: '[15]Income Statement'!#REF!
Name print_areaMI1c: '[15]Income Statement'!#REF!
Name PRINT_ASSUMPT: #REF!
Name PRINT_ASSUMPT: #REF!
Name PRINT_CONSTR_AN: #REF!
Name PRINT_CONSTR_AN: #REF!
Name PRINT_DEVELOPME: #REF!
Name PRINT_DEVELOPME: #REF!
Name PRINT_EXECUTIVE: #REF!
Name PRINT_EXECUTIVE: #REF!
Name PRINT_FINANCE: #REF!
Name PRINT_FINANCE: #REF!
Name Print_Hide9: #REF!
Name Print_Hide9: #REF!
Name PRINT_INTL_OPNS: #REF!
Name PRINT_INTL_OPNS: #REF!
Name PRINT_LEGAL: #REF!
Name PRINT_LEGAL: #REF!
Name Print_Macro__p: #REF!
Name Print_Macro__p: #REF!

Sheet TOC
C1: For the 12 months ended
C2: 46752
A3: Formula Rate Index
A4: California Grid Holdings LLC
A5: Table of Contents
B8: Formula Rate Template - Appendix III
A9: Attached Worksheets:
A10: Attachment No | B10: Worksheet Name
A12: 1 | B12: Formula Rate True-Up
A13: 2 | B13: Rate Base Worksheet
A14: 3 | B14: Return on Rate Base Worksheet
A15: 4 | B15: Interest on True-Up
A16: 5 | B16: True-Up Interest Rate Calculator
A17: 6 | B17: Depreciation and Amortization Rates
A18: 7 | B18: Prior Period Adjustments
A19: 8 | B19: Revenue Credit Detail
A20: 9 | B20: Excess or Deficient Accumulated Deferred Income Taxes - Summary
A21: 9a | B21: Regulatory Assets/Liabilities for Deficient/Excess ADIT - Averaging and Proration Adjustments
A22: 9b | B22: Re-measurement of ADIT and Tax-related Regulatory Assets and Liabilities
A23: 10 | B23: Project Revenue Requirement Worksheet
A24: 11a | B24: Accumulated Deferred Income Taxes (ADIT) Worksheet (Summary)
A25: 11b | B25: Accumulated Deferred Income Taxes (ADIT) Worksheet (Balances)
A26: 11c | B26: Accumulated Deferred Income Taxes (ADIT) Worksheet (Proration)
A27: 12 | B27: Project Cost Adjustments

Sheet Appendix III
B1: Formula Rate - Non-Levelized | M1: Page 1 of 5
A2: Rate Formula Template - Appendix III
A3: Utilizing FERC Form 1 Data
A4: California Grid Holdings LLC
M5: For the 12 months ended
M6: 46752
B8: (1) | D8: (2) | F8: (3) | I8: (4) | K8: (5)
A9: Line | K9: Allocated
A10: No. | D10: Source | K10: Amount
A11: 1 | B11: GROSS REVENUE REQUIREMENT | D11: (Page 3, Line 49) | K11: =K149 -> 7744334.5
B13: REVENUE CREDITS | D13: (Note A) | F13: Total | H13: Allocator (Note U)
A14: 2 | B14: Account No. 454 | D14: (Page 4, Line 20) | F14: =K189 -> 0 | H14: TP | I14: =K167 -> 1 | K14: =F14*I14 -> 0
A15: 3 | B15: Account No. 456.1 | D15: (Page 4, Line 21) | F15: =K191 -> 0 | H15: TP | I15: =K167 -> 1 | K15: =F15*I15 -> 0
A16: 4 | B16: TOTAL REVENUE CREDITS | D16: (Sum of Lines 2 through 3) | F16: =SUM(F14:F15) -> 0 | K16: =SUM(K14:K15) -> 0
A18: 5 | B18: Prior Period Adjustments | D18: Attachment 7, Line 18, Col. B (Note Y) | F18: ='Att 7 - Prior Period Adj'!F30 -> 0 | H18: DA | I18: 1 | K18: =F18*I18 -> 0
A19: 6 | B19: True-up Adjustment with Interest | D19: Attachment 1, Line 3, Col. G | F19: ='Att 1 - True-up'!H16 -> 0 | H19: DA | I19: 1 | K19: =F19*I19 -> 0
A21: 7 | B21: NET ANNUAL TRANSMISSION REVENUE REQUIREMENT | D21: (Line 1 less Line 4 plus Lines 5 and 6) | K21: =K11-K16+K18+K19 -> 7744334.5
B27: Formula Rate - Non-Levelized | M27: Page 2 of 5
A28: Rate Formula Template - Appendix III
A29: Utilizing FERC Form 1 Data
A30: California Grid Holdings LLC
M31: =$M$5 -> For the 12 months ended
M32: =$M$6 -> 46752
A34: Line | B34: (1) | D34: (2) | F34: (3) | I34: (4) | K34: (5)
A35: No. | B35: RATE BASE: (Note P) | D35: Source | F35: Company Total | H35: Allocator (Note U) | K35: Transmission
B36: GROSS PLANT IN SERVICE | D36: Note B | K36: (Col 3 times Col 4)
A37: 1 | B37: Production | D37: 205.46.g for end of year, records for other months | F37: 0 | H37: N/A | I37: 0 | K37: =F37*I37 -> 0
A38: 2 | B38: Transmission | D38: Attachment 2, Line 14, Col. (b) | F38: ='Att 2 - Rate Base'!D24 -> 0 | H38: TP | I38: =K167 -> 1 | K38: =F38*I38 -> 0
A39: 3 | B39: Distribution | D39: 207.75.g for end of year, records for other months | F39: 0 | H39: N/A | I39: 0 | K39: =F39*I39 -> 0
A40: 4 | B40: General & Intangible | D40: Attachment 2, Line 14, Col. (c) | F40: ='Att 2 - Rate Base'!E24 -> 0 | H40: WS | I40: =K176 -> 1 | K40: =F40*I40 -> 0
A41: 5 | B41: TOTAL GROSS PLANT | D41: (Sum of Lines 1 through 4) | F41: =SUM(F37:F40) -> 0 | H41: GP= | I41: =IF(K41>0,K41/F41,1) -> 1 | K41: =SUM(K37:K40) -> 0
A43: 6 | B43: ACCUMULATED DEPRECIATION | D43: Note B
A44: 7 | B44: Production | D44: 219.20-24.c for end of year, records for other months | F44: 0 | H44: N/A | I44: 0 | K44: =F44*I44 -> 0
A45: 8 | B45: Transmission | D45: Attachment 2, Line 14, Col. (h) | F45: ='Att 2 - Rate Base'!J24 -> 0 | H45: TP | I45: =K167 -> 1 | K45: =F45*I45 -> 0
A46: 9 | B46: Distribution | D46: 219.26.c for end of year, records for other months | F46: 0 | H46: N/A | I46: 0 | K46: =F46*I46 -> 0
A47: 10 | B47: General & Intangible | D47: Attachment 2, Line 14, Col. (i) | F47: ='Att 2 - Rate Base'!K24 -> 0 | H47: WS | I47: =K176 -> 1 | K47: =F47*I47 -> 0
A48: 11 | B48: TOTAL ACCUM. DEPRECIATION | D48: (Sum of Lines 7 through 10) | F48: =SUM(F44:F47) -> 0 | K48: =SUM(K44:K47) -> 0
A50: 12 | B50: NET PLANT IN SERVICE
A51: 13 | B51: Production | D51: (Line 1 - Line 7) | F51: =F37-F44 -> 0 | K51: =K37-K44 -> 0
A52: 14 | B52: Transmission | D52: (Line 2 - Line 8) | F52: =F38-F45 -> 0 | K52: =K38-K45 -> 0
...

Sheet Att 1 - True-up
I1: Page 1 of 1
I2: For the months ended 12/31/27
A3: Attachment 1
A4: Formula Rate True-Up Worksheet
A5: California Grid Holdings LLC
B7: This Attachment 1 is used to calculate the annual formula rate true-up. The utility will enter the projected true-up year revenue requirements in Column C. The utility will prepare this formula rate template with the actual inputs for the true-up year included in Col. D, line 3. Interest on the true-up is provided in Column F (and is calculated in Att 4). Col. G computes the total true-up as the sum of Cols. E and F.
B8: Names of the projects and actual costs will be filled into the template in the first year actual values are available without the need for a section 205 filing to modify the template.
D10: Projected True-Up Year Revenue Req. | E10: Actual True-Up Year Revenue Req. | F10: Annual True-Up Calculation
A11: Line
A12: 1 | B12: True-Up Year
A13: 2 | D13: C | E13: D | F13: E | G13: F | H13: G
B14: A | C14: B
C15: Rate Year | D15: Net Revenue Requirement2 | E15: True-Up Year Net Revenue Requirement3 | F15: Net Under/(Over) Collection (D) - (C) | G15: True-Up Interest Income (Expense)4 (Att 4, Line 32) | H15: Total True-Up (E) + (F)
A16: 3 | B16: ATRR True-Up Calculation | D16: 0 | E16: 0 | F16: =E16-D16 -> 0 | G16: ='Att 4 - Interest on True-up'!H57 -> 0 | H16: =F16+G16 -> 0
A19: Notes
A20: 1) | B20: [reserved]
A21: 2) | B21: Projected ATRR for the true-up year from Page 1, Line 7 of Projection Appendix III.
A22: 3) | B22: Actual Net ATRR for the true-up year from Page 1, Line 7 of True-Up Appendix III.
A23: 4) | B23: Interest due on the true-up is calculated for the 24 month period from the start of the true-up year until the end of the year following the true-up year when the true-up will be included in rates. Total True-Up Interest is calculated on Attachment 4.

Sheet Att 2 - Rate Base
K1: Page 1 of 2
K2: ='Att 1 - True-up'!I2 -> For the months ended 12/31/27
A3: Attachment 2
A4: Rate Base Worksheet
A5: California Grid Holdings LLC
D7: Gross Plant in Service | F7: CWIP | G7: LHFFU | H7: Working Capital | J7: Accumulated Depreciation
A8: Line No | B8: Month | D8: Transmission | E8: General & Intangible | F8: CWIP in Rate Base | G8: Held for Future Use | H8: Materials & Supplies | I8: Prepayments | J8: Transmission | K8: General & Intangible
B9: (a) | D9: (b) | E9: (c) | F9: (d) | G9: (e) | H9: (f) | I9: (g) | J9: (h) | K9: (i)
B10: (Note A) | D10: 207.58.g for end of year, records for other months | E10: 205.5.g & 207.99.g for end of year, records for other months | F10: Note B - page 2, column C | G10: 214.47.d for end of year, records for other months | H10: 227.8.c & 227.16.c for end of year, records for other months | I10: 111.57.c for end of year, records for other months | J10: 219.25.c for end of year, records for other months | K10: 219.28.c & 200.21.c for end of year, records for other months
A11: 1 | B11: December | C11: Rate Year-1 | D11: 0 | E11: 0 | F11: =F54 -> 0 | G11: 0 | H11: 0 | I11: 0 | J11: 0 | K11: 0
A12: 2 | B12: January | C12: Rate Year | D12: 0 | E12: 0 | F12: =F55 -> 0 | G12: 0 | H12: 0 | I12: 0 | J12: 0 | K12: 0
A13: 3 | B13: February | C13: Rate Year | D13: 0 | E13: 0 | F13: =F56 -> 0 | G13: 0 | H13: 0 | I13: 0 | J13: 0 | K13: 0
A14: 4 | B14: March | C14: Rate Year | D14: 0 | E14: 0 | F14: =F57 -> 0 | G14: 0 | H14: 0 | I14: 0 | J14: 0 | K14: 0
A15: 5 | B15: April | C15: Rate Year | D15: 0 | E15: 0 | F15: =F58 -> 0 | G15: 0 | H15: 0 | I15: 0 | J15: 0 | K15: 0
A16: 6 | B16: May | C16: Rate Year | D16: 0 | E16: 0 | F16: =F59 -> 0 | G16: 0 | H16: 0 | I16: 0 | J16: 0 | K16: 0
A17: 7 | B17: June | C17: Rate Year | D17: 0 | E17: 0 | F17: =F60 -> 0 | G17: 0 | H17: 0 | I17: 0 | J17: 0 | K17: 0
A18: 8 | B18: July | C18: Rate Year | D18: 0 | E18: 0 | F18: =F61 -> 0 | G18: 0 | H18: 0 | I18: 0 | J18: 0 | K18: 0
A19: 9 | B19: August | C19: Rate Year | D19: 0 | E19: 0 | F19: =F62 -> 0 | G19: 0 | H19: 0 | I19: 0 | J19: 0 | K19: 0
A20: 10 | B20: September | C20: Rate Year | D20: 0 | E20: 0 | F20: =F63 -> 0 | G20: 0 | H20: 0 | I20: 0 | J20: 0 | K20: 0
A21: 11 | B21: October | C21: Rate Year | D21: 0 | E21: 0 | F21: =F64 -> 0 | G21: 0 | H21: 0 | I21: 0 | J21: 0 | K21: 0
A22: 12 | B22: November | C22: Rate Year | D22: 0 | E22: 0 | F22: =F65 -> 0 | G22: 0 | H22: 0 | I22: 0 | J22: 0 | K22: 0
A23: 13 | B23: December | C23: Rate Year | D23: 0 | E23: 0 | F23: =F66 -> 0 | G23: 0 | H23: 0 | I23: 0 | J23: 0 | K23: 0
A24: 14 | B24: Average of the 13 Monthly Balances | D24: =AVERAGE(D11:D23) -> 0 | E24: =AVERAGE(E11:E23) -> 0 | F24: =AVERAGE(F11:F23) -> 0 | G24: =AVERAGE(G11:G23) -> 0 | H24: =AVERAGE(H11:H23) -> 0 | I24: =AVERAGE(I11:I23) -> 0 | J24: =AVERAGE(J11:J23) -> 0 | K24: =AVERAGE(K11:K23) -> 0
A26: Adjustments to Rate Base
B27: Month | D27: Unamortized Regulatory Asset | E27: Unamortized Regulatory Liabilities | F27: Unamortized Abandoned Plant
B28: (j) | D28: (k) | E28: (k1) | F28: (l)
B29: (Note A) | D29: Note C | E29: Notes G & H | F29: Note D
A30: 15 | B30: December | C30: 2026 | D30: 19264762 | E30: 0 | F30: 0
A31: 16 | B31: January | C31: 2027 | D31: 18943683 | E31: 0 | F31: 0
A32: 17 | B32: February | C32: 2027 | D32: 18622603 | E32: 0 | F32: 0
A33: 18 | B33: March | C33: 2027 | D33: 18301524 | E33: 0 | F33: 0
A34: 19 | B34: April | C34: 2027 | D34: 17980445 | E34: 0 | F34: 0
A35: 20 | B35: May | C35: 2027 | D35: 17659365 | E35: 0 | F35: 0
A36: 21 | B36: June | C36: 2027 | D36: 17338286 | E36: 0 | F36: 0
A37: 22 | B37: July | C37: 2027 | D37: 17017206 | E37: 0 | F37: 0
A38: 23 | B38: August | C38: 2027 | D38: 16696127 | E38: 0 | F38: 0
A39: 24 | B39: September | C39: 2027 | D39: 16375048 | E39: 0 | F39: 0
A40: 25 | B40: October | C40: 2027 | D40: 16053968 | E40: 0 | F40: 0
A41: 26 | B41: November | C41: 2027 | D41: 15732889 | E41: 0 | F41: 0
A42: 27 | B42: December | C42: 2027 | D42: 15411810 | E42: 0 | F42: 0
...

Sheet Att 3 - Return on Rate Base
I1: Page 1 of 1
J2: ='Att 2 - Rate Base'!K2 -> For the months ended 12/31/27
A3: Attachment 3
A4: Return on Rate Base Worksheet
A5: California Grid Holdings LLC
B7: RETURN ON RATE BASE ( R )
F8: $
A9: 1 | B9: Long Term Interest (117, sum of 62.c, 63.c, 64.c and 67.c less 65.c and 66.c ) (Note D) | F9: 0
A11: 2 | B11: Preferred Dividends (118.29c) (positive number) | F11: 0
A13: 3 | B13: Proprietary Capital (Line 25 (c)) | F13: =E41 -> 0
A14: 4 | B14: Less Preferred Stock (Line 9) | F14: =-F22 -> 0
A15: 5 | B15: Less Account 216.1 Undistributed Subsidiary Earnings (Line 25 (d)) | F15: =-F41 -> 0
A16: 6 | B16: Less Account 219 Accum. Other Comprehensive Income (Line 25 (e)) | F16: =-G41 -> 0
A17: 7 | B17: Common Stock | C17: (Sum of Lines 3 through 6) | F17: =SUM(F13:F16) -> 0
F20: $ | G20: % | H20: Cost | I20: Weighted
A21: 8 | B21: Long Term Debt | C21: Line 25 (a), Note A and Appendix III Note O | F21: =C41 -> 0 | G21: 0.4 | H21: 0.0568 | I21: =G21*H21 -> 0.02272 | J21: =WCLTD
A22: 9 | B22: Preferred Stock | C22: Line 25 (b), Note B and Appendix III Note O | F22: =D41 -> 0 | G22: 0 | H22: 0 | I22: =G22*H22 -> 0
A23: 10 | B23: Common Stock | C23: Line 7, Note C, Note E and Appendix III Note O | F23: =F17 -> 0 | G23: 0.6 | H23: 0.1055 | I23: =G23*H23 -> 0.0633
A24: 11 | B24: Total | C24: (Sum of Lines 8 through 10) | F24: =SUM(F21:F23) -> 0 | I24: =SUM(I21:I23) -> 0.08602 | J24: =R
C26: (a) | D26: (b) | E26: ( c ) | F26: (d) | G26: ( e )
B27: Monthly Balances for Capital Structure | C27: Long Term Debt Note A | D27: Preferred Stock (112.3.c) | E27: Proprietary Capital (112.16.c) | F27: Undistributed Sub Earnings 216.1 (112.12.c) (Note F) | G27: Accum Other Comp. Income 219 (112.15.c) (Note F)
A28: 12 | B28: December (Prior Year) | C28: 0 | D28: 0 | E28: 0 | F28: 0 | G28: 0
A29: 13 | B29: January | C29: 0 | D29: 0 | E29: 0 | F29: 0 | G29: 0
A30: 14 | B30: February | C30: 0 | D30: 0 | E30: 0 | F30: 0 | G30: 0
A31: 15 | B31: March | C31: 0 | D31: 0 | E31: 0 | F31: 0 | G31: 0
A32: 16 | B32: April | C32: 0 | D32: 0 | E32: 0 | F32: 0 | G32: 0
A33: 17 | B33: May | C33: 0 | D33: 0 | E33: 0 | F33: 0 | G33: 0
A34: 18 | B34: June | C34: 0 | D34: 0 | E34: 0 | F34: 0 | G34: 0
A35: 19 | B35: July | C35: 0 | D35: 0 | E35: 0 | F35: 0 | G35: 0
A36: 20 | B36: August | C36: 0 | D36: 0 | E36: 0 | F36: 0 | G36: 0
A37: 21 | B37: September | C37: 0 | D37: 0 | E37: 0 | F37: 0 | G37: 0
A38: 22 | B38: October | C38: 0 | D38: 0 | E38: 0 | F38: 0 | G38: 0
A39: 23 | B39: November | C39: 0 | D39: 0 | E39: 0 | F39: 0 | G39: 0
A40: 24 | B40: December | C40: 0 | D40: 0 | E40: 0 | F40: 0 | G40: 0
A41: 25 | B41: 13-Month Average | C41: =AVERAGE(C28:C40) -> 0 | D41: =AVERAGE(D28:D40) -> 0 | E41: =AVERAGE(E28:E40) -> 0 | F41: =AVERAGE(F28:F40) -> 0 | G41: =AVERAGE(G28:G40) -> 0
A43: Notes
A44: A | B44: Long Term debt balance will reflect the 13 month average of the balances, of which the 1st and 13th are found on page 112 lines 18.c to 21.c in the Form No. 1.
A45: B | B45: Preferred Stock balance will reflect the 13 month average of the balances, of which the 1st and 13th are found on page 112 line 3.c in the Form No. 1.
A46: C | B46: Common Stock balance will reflect the 13 month average of the balances, of which the 1st and 13th are found on Form 1 page 112 line 16.c less lines 3.c , 12.c, and 15.c.
A47: D | B47: Long-term interest will exclude any short-term interest included in FERC Account 430, Interest on Debt to Associated Companies.
...

Sheet Att 4 - Interest on True-up
I1: Page 1 of 1
I2: ='Att 3 - Return on Rate Base'!J2 -> For the months ended 12/31/27
B3: Attachment 4
B4: Interest on True-Up Worksheet
B5: California Grid Holdings LLC
A7: Line
B8: Over (Under) Recovery | C8: From Att 1, Col F, Line 3
A11: 1 | B11: =-'Att 1 - True-up'!F16 -> 0
B16: Interest Rate on Amount of Refunds or Surcharges | D16: Over (Under) Recovery Plus Interest | E16: Monthly Interest Rate on Attachment 5 | F16: Months | G16: Calculated Interest | H16: Amortization | I16: Surcharge (Refund) Owed
A17: 2 | E17: ='Att 5 - Interest Rate'!F30 -> 0
B19: An over or under collection will be recovered pro rata over year collected, held for one year and returned pro rata over next year
B22: Calculation of Interest | G22: Monthly
A23: 3 | B23: January | C23: Rate Year | D23: =$B$11/12 -> 0 | E23: =$E$17 -> 0 | F23: 12 | G23: =D23*E23*F23*-1 -> 0 | I23: =(-G23+D23)*-1 -> 0
A24: 4 | B24: February | C24: Rate Year | D24: =$B$11/12 -> 0 | E24: =$E$17 -> 0 | F24: 11 | G24: =D24*E24*F24*-1 -> 0 | I24: =(-G24+D24)*-1 -> 0
A25: 5 | B25: March | C25: Rate Year | D25: =$B$11/12 -> 0 | E25: =$E$17 -> 0 | F25: 10 | G25: =D25*E25*F25*-1 -> 0 | I25: =(-G25+D25)*-1 -> 0
A26: 6 | B26: April | C26: Rate Year | D26: =$B$11/12 -> 0 | E26: =$E$17 -> 0 | F26: 9 | G26: =D26*E26*F26*-1 -> 0 | I26: =(-G26+D26)*-1 -> 0
A27: 7 | B27: May | C27: Rate Year | D27: =$B$11/12 -> 0 | E27: =$E$17 -> 0 | F27: 8 | G27: =D27*E27*F27*-1 -> 0 | I27: =(-G27+D27)*-1 -> 0
A28: 8 | B28: June | C28: Rate Year | D28: =$B$11/12 -> 0 | E28: =$E$17 -> 0 | F28: 7 | G28: =D28*E28*F28*-1 -> 0 | I28: =(-G28+D28)*-1 -> 0
A29: 9 | B29: July | C29: Rate Year | D29: =$B$11/12 -> 0 | E29: =$E$17 -> 0 | F29: 6 | G29: =D29*E29*F29*-1 -> 0 | I29: =(-G29+D29)*-1 -> 0
A30: 10 | B30: August | C30: Rate Year | D30: =$B$11/12 -> 0 | E30: =$E$17 -> 0 | F30: 5 | G30: =D30*E30*F30*-1 -> 0 | I30: =(-G30+D30)*-1 -> 0
A31: 11 | B31: September | C31: Rate Year | D31: =$B$11/12 -> 0 | E31: =$E$17 -> 0 | F31: 4 | G31: =D31*E31*F31*-1 -> 0 | I31: =(-G31+D31)*-1 -> 0
A32: 12 | B32: October | C32: Rate Year | D32: =$B$11/12 -> 0 | E32: =$E$17 -> 0 | F32: 3 | G32: =D32*E32*F32*-1 -> 0 | I32: =(-G32+D32)*-1 -> 0
A33: 13 | B33: November | C33: Rate Year | D33: =$B$11/12 -> 0 | E33: =$E$17 -> 0 | F33: 2 | G33: =D33*E33*F33*-1 -> 0 | I33: =(-G33+D33)*-1 -> 0
A34: 14 | B34: December | C34: Rate Year | D34: =$B$11/12 -> 0 | E34: =$E$17 -> 0 | F34: 1 | G34: =D34*E34*F34*-1 -> 0 | I34: =(-G34+D34)*-1 -> 0
A35: 15 | G35: =SUM(G23:G34) -> 0 | I35: =SUM(I23:I34) -> 0
G37: Annual
A38: 16 | B38: January through December | C38: Rate Yr. + 1 | D38: =I35 -> 0 | E38: =$E$17 -> 0 | F38: 12 | G38: =D38*E38*F38 -> 0 | I38: =G38+D38 -> 0
B40: Over (Under) Recovery Plus Interest Amortized and Recovered Over 12 Months | G40: Monthly
A41: 17 | B41: January | C41: Rate Yr. + 2 | D41: =-I38 -> 0 | E41: =$E$17 -> 0 | G41: =D41*E41*-1 -> 0 | H41: =PMT(E41,12,I38) -> 0 | I41: =(D41+D41*E41-H41)*-1 -> 0
A42: 18 | B42: February | C42: Rate Yr. + 2 | D42: =-I41 -> 0 | E42: =$E$17 -> 0 | G42: =D42*E42*-1 -> 0 | H42: =$H$41 -> 0 | I42: =(D42+D42*E42-H42)*-1 -> 0
A43: 19 | B43: March | C43: Rate Yr. + 2 | D43: =-I42 -> 0 | E43: =$E$17 -> 0 | G43: =D43*E43*-1 -> 0 | H43: =$H$41 -> 0 | I43: =(D43+D43*E43-H43)*-1 -> 0
A44: 20 | B44: April | C44: Rate Yr. + 2 | D44: =-I43 -> 0 | E44: =$E$17 -> 0 | G44: =D44*E44*-1 -> 0 | H44: =$H$41 -> 0 | I44: =(D44+D44*E44-H44)*-1 -> 0
A45: 21 | B45: May | C45: Rate Yr. + 2 | D45: =-I44 -> 0 | E45: =$E$17 -> 0 | G45: =D45*E45*-1 -> 0 | H45: =$H$41 -> 0 | I45: =(D45+D45*E45-H45)*-1 -> 0
A46: 22 | B46: June | C46: Rate Yr. + 2 | D46: =-I45 -> 0 | E46: =$E$17 -> 0 | G46: =D46*E46*-1 -> 0 | H46: =$H$41 -> 0 | I46: =(D46+D46*E46-H46)*-1 -> 0
A47: 23 | B47: July | C47: Rate Yr. + 2 | D47: =-I46 -> 0 | E47: =$E$17 -> 0 | G47: =D47*E47*-1 -> 0 | H47: =$H$41 -> 0 | I47: =(D47+D47*E47-H47)*-1 -> 0
A48: 24 | B48: August | C48: Rate Yr. + 2 | D48: =-I47 -> 0 | E48: =$E$17 -> 0 | G48: =D48*E48*-1 -> 0 | H48: =$H$41 -> 0 | I48: =(D48+D48*E48-H48)*-1 -> 0
A49: 25 | B49: September | C49: Rate Yr. + 2 | D49: =-I48 -> 0 | E49: =$E$17 -> 0 | G49: =D49*E49*-1 -> 0 | H49: =$H$41 -> 0 | I49: =(D49+D49*E49-H49)*-1 -> 0
A50: 26 | B50: October | C50: Rate Yr. + 2 | D50: =-I49 -> 0 | E50: =$E$17 -> 0 | G50: =D50*E50*-1 -> 0 | H50: =$H$41 -> 0 | I50: =(D50+D50*E50-H50)*-1 -> 0
A51: 27 | B51: November | C51: Rate Yr. + 2 | D51: =-I50 -> 0 | E51: =$E$17 -> 0 | G51: =D51*E51*-1 -> 0 | H51: =$H$41 -> 0 | I51: =(D51+D51*E51-H51)*-1 -> 0
A52: 28 | B52: December | C52: Rate Yr. + 2 | D52: =-I51 -> 0 | E52: =$E$17 -> 0 | G52: =D52*E52*-1 -> 0 | H52: =$H$41 -> 0 | I52: =(D52+D52*E52-H52)*-1 -> 0
...

Sheet Att 5 - Interest Rate
J1: Page 1 of 1
J2: ='Att 4 - Interest on True-up'!I2 -> For the months ended 12/31/27
A3: Attachment 5
A4: True-Up Interest Rate Calculator
A5: California Grid Holdings LLC
A8: This Attachment is used to compute the interest rate to be applied to each year's revenue requirement true-up.
B10: Applicable FERC Interest Rate (Note A):
A11: 1 | C11: Rate Year January | F11: 0
A12: 2 | C12: Rate Year February | F12: 0
A13: 3 | C13: Rate Year March | F13: 0
A14: 4 | C14: Rate Year April | F14: 0
A15: 5 | C15: Rate Year May | F15: 0
A16: 6 | C16: Rate Year June | F16: 0
A17: 7 | C17: Rate Year July | F17: 0
A18: 8 | C18: Rate Year August | F18: 0
A19: 9 | C19: Rate Year September | F19: 0
A20: 10 | C20: Rate Year October | F20: 0
A21: 11 | C21: Rate Year November | F21: 0
A22: 12 | C22: Rate Year December | F22: 0
... A27: 17 | C27: Rate Year Plus 1 May | F27: 0
A29: 18 | B29: Average Rate | F29: =AVERAGE(F11:F27) -> 0
A30: 19 | B30: Monthly Average Rate | F30: =F29/12 -> 0
A32: Note A - Lines 1-17 are the FERC interest rates under section 35.19a of the regulations for the period shown. Line 18 is the average of lines 1-17.

Sheet Att 6 - Depreciation Rates
G1: Page 1 of 1
G2: For the 12 months ended 12/31/27
B3: Attachment 6
B4: Depreciation and Amortization Rates
B5: California Grid Holdings LLC
B7: TRANSMISSION, GENERAL AND INTANGIBLE PLANT DEPRECIATION RATES
G9: Annual Depreciation/Amortization Rates
G10: (Note A )
B11: INTANGIBLE PLANT
A13: 1 | B13: 301 | C13: Organization Fees | G13: 0.02
A14: 2 | B14: 302 | C14: Franchises & Consents | G14: Note B
A15: 3 | B15: 303 | C15: Intangible Plant | G15: Note C
B17: TRANSMISSION PLANT
A19: 1 | B19: 352 | C19: Structures & Improvements | G19: 0.0189
A20: 2 | B20: 353 | C20: Station Equipment | G20: 0.0233
A21: 3 | B21: 354 | C21: Towers & Fixtures | G21: 0.0181
A22: 4 | B22: 355 | C22: Poles & Fixtures | G22: 0.0251
A23: 5 | B23: 356 | C23: Overhead Conductors & Devices | G23: 0.0211
A24: 6 | B24: 357 | C24: Underground Conduit | G24: 0.0184
A25: 7 | B25: 358 | C25: Underground Conductors & Devices | G25: 0.021
A26: 8 | B26: 359 | C26: Roads and Trails | G26: 0.0167
B28: GENERAL PLANT
A30: 9 | B30: 397 | C30: Communication Equipment | G30: 0.0625
B32: Notes
B33: A | C33: These depreciation rates will not be changed absent a FERC order.
B34: B | C34: Items in this account will be amortized individually over the life of the contract or agreement terms. If no terms exist, they will be amortized at 2.00% per year. Once the amortization rate for a particular item is determined, the amortization rate may not be changed absent a section 205 or 206 filing.
B35: C | C35: Items in this account will be amortized individually over the life of the contract or agreement terms. If no terms exist, short-term items will be amortized at 20.00% per year and long-term items will be amortized at 6.67% per year. Once the amortization rate for a particular item is determined, the amortization rate may not be changed absent a section 205 or 206 filing.

Sheet Att 7 - Prior Period Adj
F1: Page 1 of 1
F2: ='Att 6 - Depreciation Rates'!G2 -> For the 12 months ended 12/31/27
A3: Attachment 7
A4: Prior Period Adjustments
A5: California Grid Holdings LLC
E8: (a) | F8: (b)
F9: Calendar Year
A11: Line No. | B11: Description | D11: Source | E11: Revenue Impact of Correction | F11: Revenue Requirement
A13: 1 | B13: Filing Name and Date | F13: 0
A14: 2 | B14: Original Revenue Requirement | F14: 0
A15: 3
A16: 4 | B16: Description of Correction 1 | F16: 0
A17: 5 | B17: Description of Correction 2 | F17: 0
A18: 6
A19: 7 | B19: Total Corrections | D19: Line 4 + 5 | F19: =F16+F17 -> 0
A20: 8
A21: 9 | B21: Corrected Revenue Requirement | D21: Line 2 + 7 | F21: =F14+F19 -> 0
A22: 10
A23: 11
A24: 12 | B24: Total Corrections | D24: Line 7 | F24: =F19 -> 0
A25: 13
A26: 14 | B26: Average Monthly FERC Refund Rate | D26: Note A | F26: 0
A27: 15 | B27: Number of Months of Interest | D27: Note B | F27: 30
A28: 16 | B28: Interest on Correction | D28: Line 12 x 14 x 15 | F28: =F24*F26*F27 -> 0
A29: 17
A30: 18 | B30: Total Annual Amount Due from / (to) Customers | D30: Line 12 + 16 | F30: =F24+F28 -> 0
A32: Notes
A33: A | B33: The interest rate on corrections will be the average monthly FERC interest rate for the period from the beginning of the year being corrected through the most recent month available as of the time the correction is computed and included in an annual filing.
A34: B | B34: The number of months interest due on the correction will be the number of months from the beginning of the year being corrected through June of the year in which the correction will be reflected in rates. In this manner the interest computed will reflect all years prior to when the correction is reflected in rates plus interest on the average unrefunded balance of the correction during the year the correction is reflected in rates.

Sheet Att 8 - Revenue Credits
F1: Page 1 of 1
F2: ='Att 7 - Prior Period Adj'!F2 -> For the 12 months ended 12/31/27
A3: Attachment 8
A4: Revenue Credit Detail
A5: California Grid Holdings LLC
D8: (a) | E8: (b) | F8: (c) = (a) - (b)
A9: Line No. | B9: (Note A) | C9: Source | D9: Company Total | E9: Less: Non Transmission | F9: Transmission-related
A10: 1 | B10: Account 454 - Rent from Electric Property
A11: 2 | B11: Joint pole attachments - telephone | C11: Company books | D11: 0 | E11: 0 | F11: =D11-E11 -> 0
A12: 3 | B12: Joint pole attachments - cable | C12: Company books | D12: 0 | E12: 0 | F12: =D12-E12 -> 0
A13: 4 | B13: Underground rentals | C13: Company books | D13: 0 | E13: 0 | F13: =D13-E13 -> 0
A14: 5 | B14: Transmission tower wireless rentals | C14: Company books | D14: 0 | E14: 0 | F14: =D14-E14 -> 0
A15: 6 | B15: Other rentals | C15: Company books | D15: 0 | E15: 0 | F15: =D15-E15 -> 0
A16: 7 | B16: Account 454 Revenue Credit | C16: Form 1 300.19.b | D16: =SUM(D11:D15) -> 0 | E16: =SUM(E11:E15) -> 0 | F16: =D16-E16 -> 0
A18: 8 | B18: Account 456 and 456.1 - Other Operating Revenues
A19: 9 | B19: CAISO NITS | C19: Company books | D19: 0 | E19: 0 | F19: =D19-E19 -> 0
A20: 10 | B20: CAISO Point to Point | C20: Company books | D20: 0 | E20: 0 | F20: =D20-E20 -> 0
A21: 11 | B21: Over/Under recovery deferral | C21: Company books | D21: 0 | E21: 0 | F21: =D21-E21 -> 0
A22: 12 | B22: Other CAISO revenues | C22: Company books | D22: 0 | E22: 0 | F22: =D22-E22 -> 0
A23: 13 | B23: Other | C23: Company books | D23: 0 | E23: 0 | F23: =D23-E23 -> 0
A24: 14 | B24: Total Per Books | C24: (300.21.b + 300.22.b) | D24: =SUM(D19:D23) -> 0 | E24: =SUM(E19:E23) -> 0 | F24: =D24-E24 -> 0
A25: 15 | B25: Less: Revenues received pursuant to this Formula Rate | D25: 0 | E25: 0 | F25: =D25-E25 -> 0
A26: 16 | B26: Less: Over/Under recovery deferral | D26: 0 | E26: 0 | F26: =D26-E26 -> 0
A27: 17 | B27: Account 456 and 456.1 Revenue Credit | C27: (Line 14 - line 15 - line 16) | D27: =D24-D25-D26 -> 0 | E27: =E24-E25-E26 -> 0 | F27: =D27-E27 -> 0
A29: 18 | B29: Total Revenue Credits | C29: (Line 7 + line 17) | D29: =D16+D27 -> 0 | E29: =E16+E27 -> 0 | F29: =D29-E29 -> 0
A32: Note A | B32: All 454 and 456.1 revenues will be detailed from Company books and records or FERC Form 1, and additional rows added if necessary. Non-transmission-related amounts will be deducted to determine transmission-related amounts.

Sheet Att 9 - Excess-Def Summary
N1: Page 1 of 4
A2: Attachment 9
A3: Excess or Deficient Accumulated Deferred Income Taxes - Summary
A4: California Grid Holdings LLC
A5: 2027 | B5: Projected
A7: Line No.
A8: 1 | B8: The primary purposes of this worksheet are to: - reconcile the amounts of regulatory assets and liabilities comprising the rate base adjustment mechanism on Appendix III, Page 2, Line 23 (ADJUSTMENTS TO RATE BASE > Deficient or (Excess) ADIT) as of the beginning and end of the current test period (summarized beginning at Line 3 below) and - to support the effect of such excess deferred tax expense or benefit on the revenue requirement as reflected in the income tax allowance adjustment mechanism on Appendix III, Page 3, Line 42 (INCOME TAXES > Deficient or (Excess) Deferred Income Tax Adjustment) during the test period (summarized beginning on Line 9 below). This worksheet supports the computation of the projected revenue requirement or, as appropriate, the actual revenue requirement used to compute the true-up adjustment. Tax law changes that impact deficient or excess accumulated deferred income taxes will be described in Note 1, as necessary
A9: =A8+1 -> 2 | B9: [List of tax law changes, accounting treatment, and asscociated explanatory notes.]
A11: =A9+1 -> 3 | B11: Rate Base Adjustment Mechanism - Summary
A13: =A11+1 -> 4 | B13: Account | E13: Amount | F13: References
A14: =+A13+1 -> 5 | B14: 182.3 (debit or <credit>) | E14: 0
A15: =+A14+1 -> 6 | B15: 254 (debit or <credit>) | E15: 0
A16: =+A15+1 -> 7 | B16: Total Deficient or (Excess) ADIT (sum of lines 5-6) | E16: =SUM(E14:E15) -> 0 | F16: To Appendix III, Page 2, Line 23, Col. (3)
A18: =A16+1 -> 8 | B18: The amounts summarized above are computed in the Rate Base Adjustment Mechanism-Reconciliation of Beginning and End of Test Period Balances section of the worksheet with proration and averaging of activity during the test period computed in different section of Attachment 9a for projected revenue requirement calculations and actual revenue requirement calculations.
A20: =A18+1 -> 9 | B20: Income Tax Allowance Adjustment Mechanism - Summary
B22: (a) | C22: (b) | D22: (c) | E22: (d) | F22: (e) | G22: (f)
A23: =+A20+1 -> 10 | E23: Amortization or Mitigation of Deficient or <Excess> ADIT | F23: Tax Gross-up Factor | G23: Amortization or Mitigation with Tax Gross-up
A24: =+A23+1 -> 11 | B24: [Insert rows as necessary] | E24: =H74 -> 0 | G24: =E24*F24 -> 0
A25: =A24&"a" -> 11a | B25: [Insert rows as necessary] | E25: =K87 -> 0 | G25: =E25*F25 -> 0
A26: =A24&"…" -> 11… | B26: [Insert rows as necessary] | E26: 0 | G26: 0
A27: =+A24+1 -> 12 | B27: Total | C27: ="(sum of lines "&A24&"_)" -> (sum of lines 11_) | E27: =SUM(E24:E26) -> 0 | G27: =SUM(G24:G26) -> 0
A28: =+A27+1 -> 13 | G28: To Appendix III, Page 3, Line 42, Col. (3)
A30: =A28+1 -> 14 | B30: [Explanatory statements as needed]
N31: Page 2 of 4
A32: Attachment 9
A33: Excess or Deficient Accumulated Deferred Income Taxes - Summary
A34: California Grid Holdings LLC
A36: =A30+1 -> 15 | B36: Rate Base Adjustment Mechanism - Reconciliation of Beginning and End of Test Period Balances
B38: (a) | C38: (b) | D38: (c) | E38: (d) | F38: (e) | G38: (f) | H38: (g) | I38: (h) | J38: (i) | K38: (j)
A39: =+A36+1 -> 16 | B39: Description (+ = debit, <> = credit) | E39: Balance at Beginning of Year | F39: Re-measurement of ADIT | G39: Annual Amortization (Note 4) | H39: Other Adjustments (Note 5) | I39: Balance at End of Year (d)+(e)+(f)+ (g) | J39: Whether subject to normalization rules (Note 6) | K39: Amortization period and method
A40: =+A39+1 -> 17 | B40: [Insert rows as necessary] | E40: 0 | F40: 0 | G40: 0 | H40: 0 | I40: =SUM(E40:H40) -> 0
A41: =A40&"a" -> 17a | B41: [Insert rows as necessary] | E41: 0 | F41: 0 | G41: 0 | H41: 0 | I41: =SUM(E41:H41) -> 0
A42: =A40&"b" -> 17b | B42: [Insert rows as necessary] | E42: 0 | F42: 0 | G42: 0 | H42: 0 | I42: =SUM(E42:H42) -> 0
A43: =A40&"..." -> 17... | B43: [Insert rows as necessary] | E43: 0 | F43: 0 | G43: 0 | H43: 0 | I43: =SUM(E43:H43) -> 0
A44: =+A40+1 -> 18 | B44: Total for account 182.3 | C44: ="(sum of lines "&A40&"_)" -> (sum of lines 17_) | E44: =SUM(E40:E43) -> 0 | F44: =SUM(F40:F43) -> 0 | G44: =SUM(G40:G43) -> 0 | H44: =SUM(H40:H43) -> 0 | I44: =SUM(I40:I43) -> 0
A45: =+A44+1 -> 19 | E45: FF1. pg 232 | I45: FF1. pg 232
A47: =A45+1 -> 20 | B47: [Insert rows as necessary] | E47: 0 | F47: 0 | G47: 0 | H47: 0 | I47: =SUM(E47:H47) -> 0
A48: =A47&"a" -> 20a | B48: [Insert rows as necessary] | E48: 0 | F48: 0 | G48: 0 | H48: 0 | I48: =SUM(E48:H48) -> 0
A49: =A47&"b" -> 20b | B49: [Insert rows as necessary] | E49: 0 | F49: 0 | G49: 0 | H49: 0 | I49: =SUM(E49:H49) -> 0
A50: =A47&"..." -> 20... | B50: [Insert rows as necessary] | E50: 0 | F50: 0 | G50: 0 | H50: 0 | I50: =SUM(E50:H50) -> 0
...

Sheet Att 9a -Averaging & Proration
A1: Page 1 of 1
A2: Attachment 9a
A3: Regulatory Asset/Liabilities for Deficient/Excess ADIT - Averaging and Proration Adjustments
A4: Support for Attachment 9 (Excess or Deficient Accumulated Deferred Income Taxes - Summary)
A5: California Grid Holdings LLC
A6: 2027 | B6: Projected
A8: Line No.
A9: 1 | B9: Rate year =
A10: =+A9+1 -> 2 | B10: Test period days after rates become effective
B12: This attachment includes sections that are populated only with actual data and thus, these sections remain blank when the formula rate template is calculating a projected revenue requirement. Columns (i) through (n) below are not used for the projection and are only populated with actual data for the Annual Update.
A14: =+A10+1 -> 3 | B14: Note 1 - The computations below apply the proration rules of Treasury Regulation section 1.167(l)-1(h)(6) to the annual activity of the portions of the deficient or excess accumulated deferred income taxes recorded in account 182.3 or 254 that are subject to the normalization requirements. Activity related to the portions of the account balances reflected in rate base but not subject to the proration requirement is averaged instead of prorated. The balances below include tax gross-up. The corresponding portions of the deferred tax asset related to the portions of the regulatory liability and the corresponding portions of the deferred tax liability related to the portions of the regulatory asset are also reflected in rate base and prorated or averaged, as appropriate. Columns (a) through (h) are used for projected and actual revenue requirements computations. Columns (i) through (n) are used for actual revenue requirement computations.
A16: =A14+1 -> 4 | B16: Account 182.3 - Other Regulatory Assets (portion related to deficient or excess ADIT)
A18: =A16+1 -> 5 | G18: Amount debit / <credit>
A19: =+A18+1 -> 6 | B19: Beginning balance (debit or <credit>) | G19: 0
A20: =+A19+1 -> 7 | B20: Less: Portion not related to transmission | G20: 0
A21: =+A20+1 -> 8 | B21: Less: Portion not reflected in rate base | G21: 0
A22: =+A21+1 -> 9 | B22: Subtotal: Portion reflected in rate base | G22: =+G19-G21-G20 -> 0
A23: =+A22+1 -> 10 | B23: Less: Portion subject to proration | G23: 0
A24: =+A23+1 -> 11 | B24: Portion subject to averaging (debit or <credit>) | G24: =+G22-G23 -> 0
A26: =+A24+1 -> 12 | B26: Ending balance (debit or <credit>) | G26: 0
A27: =+A26+1 -> 13 | B27: Less: Portion not related to transmission | G27: 0
A28: =+A27+1 -> 14 | B28: Less: Portion not reflected in rate base | G28: 0
A29: =+A28+1 -> 15 | B29: Subtotal: Portion reflected in rate base | G29: =+G26-G27-G28 -> 0
A30: =+A29+1 -> 16 | B30: Less: Portion subject to proration (before proration) | G30: 0
A31: =+A30+1 -> 17 | B31: Portion subject to averaging (before averaging) (debit or <credit>) | G31: =+G29-G30 -> 0
A33: =+A31+1 -> 18 | B33: Ending balance of portion subject to proration (prorated) (debit or <credit>) | G33: =P53 -> 0 | H33: ="From Line "&A53&P38 -> From Line 36(n)
A34: =+A33+1 -> 19 | B34: Average balance of portion subject to averaging | G34: =+(G24+G31)/2 -> 0
A35: =+A34+1 -> 20 | B35: Amount reflected in rate base (debit or <credit>) | G35: =+G33+G34 -> 0 | H35: To Att. 9, Line 5
A37: =A35+1 -> 21 | B37: Account 182.3 - Other Regulatory Assets (portion related to deficient or excess ADIT) | K37: Columns (i) through (n) are not used for the calculation of the projected revenue requirement
B38: (a) | C38: (b) | D38: (c) | E38: (d) | F38: (e) | G38: (f) | H38: (g) | I38: (h) | K38: (i) | L38: (j) | M38: (k) | N38: (l) | O38: (m) | P38: (n)
A39: =+A37+1 -> 22 | B39: Month | C39: Year | D39: Forecasted Monthly Activity debit / <credit> | E39: Forecasted Month-end Balance debit / <credit> | F39: Days until End of Test Period | G39: Days in Test Period | H39: Prorated Forecasted Monthly Activity debit / <credit> | I39: Forecasted Prorated Month-end Balance debit / <credit> | K39: Actual Monthly Activity | L39: Difference between projected monthly and actual monthly activity. | M39: Preserve projected proration when actual monthly and projected monthly activity are either both increases or decreases. | N39: Fifty percent of the difference between projected and actual activity when actual and projected activity are either both increases or decreases. | O39: Fifty percent of actual monthly activity when projected activity is an increase while actual activity is a decrease OR projected activity is a decrease while actual activity is an increase. | P39: Balance reflecting proration or averaging
A40: =+A39+1 -> 23 | E40: prior month (d) + (c) | G40: Line 2 | H40: [(c) x (e) / (f)] | I40: prior month (h) + (g) | L40: (i) - (c) [Note 4] | M40: [Note 5] | N40: [Note 6] | O40: [Note 7] | P40: [Note 8]
A41: =+A40+1 -> 24 | B41: December 31, | C41: - | D41: NA | E41: 0 | F41: NA | G41: =F10 -> 0 | H41: NA | I41: =E41 -> 0 | K41: NA | L41: NA | M41: NA | N41: NA | O41: NA | P41: =G23 -> 0
A42: =+A41+1 -> 25 | B42: January | C42: - | D42: 0 | E42: =E41+D42 -> 0 | G42: =G41 -> 0 | H42: =IFERROR(D42*F42/G42,0) -> 0 | I42: =+I41+H42 -> 0 | K42: 0 | L42: =K42-D42 -> 0 | M42: =IF(AND( D42>=0, K42>=0), IF( L42>=0, H42, K42/ D42* H42), IF(AND( D42<0, K42<0), IF( L42<0,H42, K42/ D42* H42),0)) -> 0 | N42: =IF(AND( D42>=0, K42>=0), IF( L42>=0, L42*50%,0), IF(AND( D42<0, K42<0),IF( L42<0, L42*50%,0),0)) -> 0 | O42: =IF(AND( D42>=0, K42<=0), K42*50%, IF(AND( D42<0, K42>=0), K42*50%,0)) -> 0 | P42: =P41+M42+N42+O42 -> 0
A43: =+A42+1 -> 26 | B43: February | C43: - | D43: 0 | E43: =E42+D43 -> 0 | F43: 307 | G43: =G42 -> 0 | H43: =IFERROR(D43*F43/G43,0) -> 0 | I43: =+I42+H43 -> 0 | K43: 0 | L43: =K43-D43 -> 0 | M43: =IF(AND( D43>=0, K43>=0), IF( L43>=0, H43, K43/ D43* H43), IF(AND( D43<0, K43<0), IF( L43<0,H43, K43/ D43* H43),0)) -> 0 | N43: =IF(AND( D43>=0, K43>=0), IF( L43>=0, L43*50%,0), IF(AND( D43<0, K43<0),IF( L43<0, L43*50%,0),0)) -> 0 | O43: =IF(AND( D43>=0, K43<=0), K43*50%, IF(AND( D43<0, K43>=0), K43*50%,0)) -> 0 | P43: =P42+M43+N43+O43 -> 0
A44: =+A43+1 -> 27 | B44: March | C44: - | D44: 0 | E44: =E43+D44 -> 0 | F44: 276 | G44: =G43 -> 0 | H44: =IFERROR(D44*F44/G44,0) -> 0 | I44: =+I43+H44 -> 0 | K44: 0 | L44: =K44-D44 -> 0 | M44: =IF(AND( D44>=0, K44>=0), IF( L44>=0, H44, K44/ D44* H44), IF(AND( D44<0, K44<0), IF( L44<0,H44, K44/ D44* H44),0)) -> 0 | N44: =IF(AND( D44>=0, K44>=0), IF( L44>=0, L44*50%,0), IF(AND( D44<0, K44<0),IF( L44<0, L44*50%,0),0)) -> 0 | O44: =IF(AND( D44>=0, K44<=0), K44*50%, IF(AND( D44<0, K44>=0), K44*50%,0)) -> 0 | P44: =P43+M44+N44+O44 -> 0
A45: =+A44+1 -> 28 | B45: April | C45: - | D45: 0 | E45: =E44+D45 -> 0 | F45: 246 | G45: =G44 -> 0 | H45: =IFERROR(D45*F45/G45,0) -> 0 | I45: =+I44+H45 -> 0 | K45: 0 | L45: =K45-D45 -> 0 | M45: =IF(AND( D45>=0, K45>=0), IF( L45>=0, H45, K45/ D45* H45), IF(AND( D45<0, K45<0), IF( L45<0,H45, K45/ D45* H45),0)) -> 0 | N45: =IF(AND( D45>=0, K45>=0), IF( L45>=0, L45*50%,0), IF(AND( D45<0, K45<0),IF( L45<0, L45*50%,0),0)) -> 0 | O45: =IF(AND( D45>=0, K45<=0), K45*50%, IF(AND( D45<0, K45>=0), K45*50%,0)) -> 0 | P45: =P44+M45+N45+O45 -> 0
A46: =+A45+1 -> 29 | B46: May | C46: - | D46: 0 | E46: =E45+D46 -> 0 | F46: 215 | G46: =G45 -> 0 | H46: =IFERROR(D46*F46/G46,0) -> 0 | I46: =+I45+H46 -> 0 | K46: 0 | L46: =K46-D46 -> 0 | M46: =IF(AND( D46>=0, K46>=0), IF( L46>=0, H46, K46/ D46* H46), IF(AND( D46<0, K46<0), IF( L46<0,H46, K46/ D46* H46),0)) -> 0 | N46: =IF(AND( D46>=0, K46>=0), IF( L46>=0, L46*50%,0), IF(AND( D46<0, K46<0),IF( L46<0, L46*50%,0),0)) -> 0 | O46: =IF(AND( D46>=0, K46<=0), K46*50%, IF(AND( D46<0, K46>=0), K46*50%,0)) -> 0 | P46: =P45+M46+N46+O46 -> 0
A47: =+A46+1 -> 30 | B47: June | C47: - | D47: 0 | E47: =E46+D47 -> 0 | F47: 185 | G47: =G46 -> 0 | H47: =IFERROR(D47*F47/G47,0) -> 0 | I47: =+I46+H47 -> 0 | K47: 0 | L47: =K47-D47 -> 0 | M47: =IF(AND( D47>=0, K47>=0), IF( L47>=0, H47, K47/ D47* H47), IF(AND( D47<0, K47<0), IF( L47<0,H47, K47/ D47* H47),0)) -> 0 | N47: =IF(AND( D47>=0, K47>=0), IF( L47>=0, L47*50%,0), IF(AND( D47<0, K47<0),IF( L47<0, L47*50%,0),0)) -> 0 | O47: =IF(AND( D47>=0, K47<=0), K47*50%, IF(AND( D47<0, K47>=0), K47*50%,0)) -> 0 | P47: =P46+M47+N47+O47 -> 0
A48: =+A47+1 -> 31 | B48: July | C48: - | D48: 0 | E48: =E47+D48 -> 0 | F48: 154 | G48: =G47 -> 0 | H48: =IFERROR(D48*F48/G48,0) -> 0 | I48: =+I47+H48 -> 0 | K48: 0 | L48: =K48-D48 -> 0 | M48: =IF(AND( D48>=0, K48>=0), IF( L48>=0, H48, K48/ D48* H48), IF(AND( D48<0, K48<0), IF( L48<0,H48, K48/ D48* H48),0)) -> 0 | N48: =IF(AND( D48>=0, K48>=0), IF( L48>=0, L48*50%,0), IF(AND( D48<0, K48<0),IF( L48<0, L48*50%,0),0)) -> 0 | O48: =IF(AND( D48>=0, K48<=0), K48*50%, IF(AND( D48<0, K48>=0), K48*50%,0)) -> 0 | P48: =P47+M48+N48+O48 -> 0
...

Sheet Att 9b -Remeasurement
A1: Page 1 of 1
A2: Attachment 9b
A3: Re-measurement of ADIT and Tax-related Regulatory Assets and Liabilities Resulting from the Tax Change Identified in Line 1
A4: Support for Attachment 9 (Excess or Deficient Accumulated Deferred Income Taxes - Summary
A5: California Grid Holdings LLC
A6: 2027 | B6: Projected
A8: Line No.
A9: 1 | B9: [Identify/describe the tax legislation/change]
A10: =+A9+1 -> 2 | B10: [Describe the computation.]
A11: =+A10+1 -> 3 | B11: The ratemaking treatment of each item in terms of whether it is subject to the normalization requirements (i.e., P or "protected") or not subject to the normalization requirements (i.e., U or "unprotected") and included in rate base or not (i.e., RB or non-RB) is indicated in column (b). The balances are measured at the composite tax rate in effect immediately before the effective date of the change in tax law and remeasured immediately after the change in tax law. Each set of balances includes the appropriate income tax rates and tax gross-up factors (as computed in the specific note for this tax law change in Att. 9). The journal entry to record the remeasurements (Line 16) is based on the differences in balances of accounts recorded prior to the change in law (columns (d)-(h)) and activity in other accounts resulting from the remeasurement (columns (i)-(n)). The remeasurement entry is also included in Att. 9. The accounting is further described in Att. 9, Note 2.
A12: =+A11+1 -> 4 | B12: This worksheet will be included in support of the revenue requirement computation until the excess or deficient ADIT is fully amortized. A similar worksheet will be used for subsequent changes in tax law resulting in re-measurement of ADIT.
B14: (a) | F14: (b) | G14: (c) | H14: (d) | I14: (e) | J14: (f) | K14: (g) | L14: (h) | N14: (i) | O14: (j) | P14: (k) | Q14: (l) | R14: (m) | S14: (n)
A15: =+A12+1 -> 5 | B15: Balances and rates prior to remeasurement
H16: [tax rate] | I16: =H16 -> [tax rate] | J16: =I16 -> [tax rate] | K16: [1/(1-tax rate)] | L16: [1/(1-tax rate)]
A17: =+A15+1 -> 6 | B17: Temporary Difference | H17: Account | I17: Account | J17: Account | K17: Account | L17: Account
A18: =+A17+1 -> 7 | B18: Item | F18: Normalized? | G18: Amount | H18: 190 | I18: 282 | J18: 283 | K18: 182.3 | L18: 254
A20: =A18+1 -> 8 | B20: [Insert rows as necessary]
A21: =A20&"a" -> 8a | B21: [Insert rows as necessary]
A22: =A20&"b" -> 8b | B22: [Insert rows as necessary]
A23: =A20&"..." -> 8... | B23: [Insert rows as necessary]
A24: =A20+1 -> 9 | B24: Total | H24: =SUM(H20:H23) -> 0 | I24: =SUM(I20:I23) -> 0 | J24: =SUM(J20:J23) -> 0 | K24: =SUM(K20:K23) -> 0 | L24: =SUM(L20:L23) -> 0
A26: =A24+1 -> 10 | B26: Remeasured balances and rates | N26: Other accounts affected by remeasurement
A27: =+A26+1 -> 11 | H27: [tax rate] | I27: =H27 -> [tax rate] | J27: =I27 -> [tax rate] | K27: [1/(1-tax rate)] | L27: [1/(1-tax rate)] | P27: =K27 -> [1/(1-tax rate)] | Q27: =L27 -> [1/(1-tax rate)] | R27: =P27 -> [1/(1-tax rate)] | S27: =Q27 -> [1/(1-tax rate)]
A28: =+A27+1 -> 12 | B28: Temporary Difference | H28: Account | I28: Account | J28: Account | K28: Account | L28: Account | N28: Account | O28: Account | P28: Account | Q28: Account | R28: Account | S28: Account
A29: =+A28+1 -> 13 | B29: Item | F29: Normalized? | G29: Amount | H29: 190 | I29: 282 | J29: 283 | K29: 182.3 | L29: 254 | N29: 410.1 | O29: 411.1 | P29: 254 | Q29: 190 | R29: 182.3 | S29: 283
A31: =A29+1 -> 14 | B31: [Insert rows as necessary]
A32: =A31&"a" -> 14a | B32: [Insert rows as necessary]
A33: =A31&"b" -> 14b | B33: [Insert rows as necessary]
A34: =A31&"..." -> 14... | B34: [Insert rows as necessary]
A35: =A31+1 -> 15 | B35: Total | H35: =SUM(H31:H34) -> 0 | I35: =SUM(I31:I34) -> 0 | J35: =SUM(J31:J34) -> 0 | K35: =SUM(K31:K34) -> 0 | L35: =SUM(L31:L34) -> 0 | N35: =SUM(N31:N34) -> 0 | O35: =SUM(O31:O34) -> 0 | P35: =SUM(P31:P34) -> 0 | Q35: =SUM(Q31:Q34) -> 0 | R35: =SUM(R31:R34) -> 0 | S35: =SUM(S31:S34) -> 0
A37: =A35+1 -> 16 | B37: Remeasurement journal entry: debit or <credit> (to Attachment 9) | H37: =H35-H24 -> 0 | I37: =I35-I24 -> 0 | J37: =J35-J24 -> 0 | K37: =K35-K24 -> 0 | L37: =L35-L24 -> 0 | N37: =N35 -> 0 | O37: =O35 -> 0 | P37: =P35 -> 0 | Q37: =Q35 -> 0 | R37: =R35 -> 0 | S37: =S35 -> 0
A39: =A37+1 -> 17 | B39: Summary of Effects on Tax-related Regulatory Assets and Liabilities
A40: =+A39+1 -> 18 | B40: Account 182.3 - included in rate base, subject to normalization rules
A41: =+A40+1 -> 19 | B41: Account 182.3 - included in rate base, not subject to normalization rules
A42: =+A41+1 -> 20 | B42: Account 182.3 - not included in rate base
A43: =+A42+1 -> 21 | B43: Account 254 - included in rate base, subject to normalization rules
A44: =+A43+1 -> 22 | B44: Account 254 - included in rate base, not subject to normalization rules
A45: =+A44+1 -> 23 | B45: Account 254 - not included in rate base

Sheet Att 10 - Proj Rev Req
A1: Attachment 10 | R1: Page 1 of 2
A2: Project Revenue Requirement Worksheet
A3: California Grid Holdings LLC
C6: To be completed in conjunction with Appendix III.
C9: (1) | E9: (2) | H9: (3) | K9: (4)
E10: Appendix III
A11: Line | E11: Page, Line, Col. | H11: Transmission | K11: Allocator
A12: No.
A14: 1 | C14: Gross Plant - Total | E14: Appendix III, p 2, line 5 col 5 | H14: ='Appendix III'!K41 -> 0
A15: 2 | C15: Net Plant - Total | E15: Appendix III, p 2, line 17 col 5 plus line 29, 30 and 35 col 5 | H15: ='Appendix III'!K55+'Appendix III'!K69+'Appendix III'!K71+'Appendix III'!K77 -> 18916091
C17: INCOME TAXES
A18: 3 | C18: Total Income Taxes | E18: Appendix III, p 3, line 44 col 5 | H18: ='Appendix III'!K138 -> 465272.38
A19: 4 | C19: Annual Allocation Factor for Income Taxes | E19: (line 3 divided by line 2 col 3) | H19: =IF(H15=0,0,H18/H15) -> 0.024596646 | K19: =H19 -> 0.024596646
C21: RETURN
A22: 5 | C22: Return on Rate Base | E22: Appendix III, p 3, line 46 col 5 | H22: ='Appendix III'!K141 -> 1627162.1
A23: 6 | C23: Annual Allocation Factor for Return on Rate Base | E23: (line 5 divided by line 2 col 3) | H23: =IF(H15=0,0,H22/H15) -> 0.08602 | K23: =H23 -> 0.08602
A25: 7 | C25: Annual Allocation Factor for Return | E25: Sum of line 4 and 6 | H25: =+H23+H19 -> 0.11061665 | K25: =K19+K23 -> 0.11061665
A29: =+A1 -> Attachment 10 | R29: Page 2 of 2
A30: Project Revenue Requirement Worksheet
A31: California Grid Holdings LLC
C33: -1 | D33: -2 | E33: -3 | F33: -4 | G33: -5 | H33: -6 | I33: -7 | J33: -8 | K33: -9 | L33: -10 | M33: (10a) | N33: -11 | O33: -12 | P33: -13 | Q33: -14
A34: Line No. | C34: Project Name | D34: RTO Project Number | E34: Project Gross Plant | F34: Project Net Plant | G34: Annual Allocation Factor for Return | H34: Project Annual Return | I34: Annual Project Expenses | J34: Project Depr/Amort Expense | K34: Project Annual Revenue Requirement | L34: Competitive Project Adjustment | M34: Project Incentive Adjustment | N34: Total Project Annual Revenue Requirement | O34: Project True-Up Adjustment | P34: Project Prior Period Adjustment | Q34: Net Project Rev Req
E35: (Note A) | F35: (Note B) | G35: (Page 1 line 7) | H35: (Col. 4 * Col. 5) | I35: (Note C) | J35: (Note D) | K35: (Sum Col. 6, 7 & 8) | L35: (Note E) | M35: (Note H) | N35: (Sum Col. 9, 10 and 10a) | O35: (Note F) | P35: (Note G) | Q35: Sum Col. 11 - 13
A37: 8a | C37: [Project 1 - from Att. 12, Line 1] | E37: 0 | F37: 0 | G37: =$K$25 -> 0.11061665 | H37: =F37*G37 -> 0 | I37: 0 | J37: 0 | K37: =I37+H37+J37 -> 0 | L37: ='Att 12 - Proj Cost Adj'!C14 -> 0 | M37: ='Att 12 - Proj Cost Adj'!C47 -> 0 | N37: =+K37+L37+M37 -> 0 | O37: 0 | P37: 0 | Q37: =SUM(N37:P37) -> 0
A38: 8b | C38: [Project 2 - from Att. 12, Line 4] | E38: 0 | F38: 0 | G38: =$K$25 -> 0.11061665 | H38: =F38*G38 -> 0 | I38: 0 | J38: 0 | K38: =I38+H38+J38 -> 0 | L38: ='Att 12 - Proj Cost Adj'!C27 -> 0 | M38: ='Att 12 - Proj Cost Adj'!C61 -> 0 | N38: =+K38+L38+M38 -> 0 | O38: 0 | P38: 0 | Q38: =SUM(N38:P38) -> 0
A39: … | C39: [Add additional Projects from Att. 12 as necessary] | E39: 0 | F39: 0 | G39: =$K$25 -> 0.11061665 | H39: =F39*G39 -> 0 | I39: 0 | J39: 0 | K39: =I39+H39+J39 -> 0 | N39: =+K39+L39+M39 -> 0 | O39: 0 | P39: 0 | Q39: =SUM(N39:P39) -> 0
A40: … | E40: 0 | F40: 0 | G40: =$K$25 -> 0.11061665 | H40: =F40*G40 -> 0 | I40: 0 | J40: 0 | K40: =I40+H40+J40 -> 0 | N40: =+K40+L40+M40 -> 0 | O40: 0 | P40: 0 | Q40: =SUM(N40:P40) -> 0
A41: … | E41: 0 | F41: 0 | G41: =$K$25 -> 0.11061665 | H41: =F41*G41 -> 0 | I41: 0 | J41: 0 | K41: =I41+H41+J41 -> 0 | N41: =+K41+L41+M41 -> 0 | O41: 0 | P41: 0 | Q41: =SUM(N41:P41) -> 0
A42: … | E42: 0 | F42: 0 | G42: =$K$25 -> 0.11061665 | H42: =F42*G42 -> 0 | I42: 0 | J42: 0 | K42: =I42+H42+J42 -> 0 | N42: =+K42+L42+M42 -> 0 | O42: 0 | P42: 0 | Q42: =SUM(N42:P42) -> 0
A43: … | E43: 0 | F43: 0 | G43: =$K$25 -> 0.11061665 | H43: =F43*G43 -> 0 | I43: 0 | J43: 0 | K43: =I43+H43+J43 -> 0 | N43: =+K43+L43+M43 -> 0 | O43: 0 | P43: 0 | Q43: =SUM(N43:P43) -> 0
A44: … | E44: 0 | F44: 0 | G44: =$K$25 -> 0.11061665 | H44: =F44*G44 -> 0 | I44: 0 | J44: 0 | K44: =I44+H44+J44 -> 0 | N44: =+K44+L44+M44 -> 0 | O44: 0 | P44: 0 | Q44: =SUM(N44:P44) -> 0
A45: … | E45: 0 | F45: 0 | G45: =$K$25 -> 0.11061665 | H45: =F45*G45 -> 0 | I45: 0 | J45: 0 | K45: =I45+H45+J45 -> 0 | N45: =+K45+L45+M45 -> 0 | O45: 0 | P45: 0 | Q45: =SUM(N45:P45) -> 0
A46: … | E46: 0 | F46: 0 | G46: =$K$25 -> 0.11061665 | H46: =F46*G46 -> 0 | I46: 0 | J46: 0 | K46: =I46+H46+J46 -> 0 | N46: =+K46+L46+M46 -> 0 | O46: 0 | P46: 0 | Q46: =SUM(N46:P46) -> 0
A47: … | E47: 0 | F47: 0 | G47: =$K$25 -> 0.11061665 | H47: =F47*G47 -> 0 | I47: 0 | J47: 0 | K47: =I47+H47+J47 -> 0 | N47: =+K47+L47+M47 -> 0 | O47: 0 | P47: 0 | Q47: =SUM(N47:P47) -> 0
A48: … | E48: 0 | F48: 0 | G48: =$K$25 -> 0.11061665 | H48: =F48*G48 -> 0 | I48: 0 | J48: 0 | K48: =I48+H48+J48 -> 0 | N48: =+K48+L48+M48 -> 0 | O48: 0 | P48: 0 | Q48: =SUM(N48:P48) -> 0
A49: … | E49: 0 | F49: 0 | G49: =$K$25 -> 0.11061665 | H49: =F49*G49 -> 0 | I49: 0 | J49: 0 | K49: =I49+H49+J49 -> 0 | N49: =+K49+L49+M49 -> 0 | O49: 0 | P49: 0 | Q49: =SUM(N49:P49) -> 0
A50: … | E50: 0 | F50: 0 | G50: =$K$25 -> 0.11061665 | H50: =F50*G50 -> 0 | I50: 0 | J50: 0 | K50: =I50+H50+J50 -> 0 | N50: =+K50+L50+M50 -> 0 | O50: 0 | P50: 0 | Q50: =SUM(N50:P50) -> 0
A51: … | E51: 0 | F51: 0 | G51: =$K$25 -> 0.11061665 | H51: =F51*G51 -> 0 | I51: 0 | J51: 0 | K51: =I51+H51+J51 -> 0 | N51: =+K51+L51+M51 -> 0 | O51: 0 | P51: 0 | Q51: =SUM(N51:P51) -> 0
... A55: … | E55: 0 | F55: 0 | G55: =$K$25 -> 0.11061665 | H55: =F55*G55 -> 0 | I55: 0 | J55: 0 | K55: =I55+H55+J55 -> 0 | N55: =+K55+L55+M55 -> 0 | O55: 0 | P55: 0 | Q55: =SUM(N55:P55) -> 0
Q56: =SUM(N56:P56) -> 0
...

Sheet Att 11a - ADIT Summary
A1: Attachment 11a
A2: Accumulated Deferred Income Taxes (ADIT) Worksheet (Summary)
A3: California Grid Holdings LLC
B6: (a) | C6: (b) | D6: (c) | E6: (d) | F6: (e) | G6: (f) | H6: (g)
A7: Line No. | B7: Beginning Balance & Monthly Changes | C7: Year | D7: Balance | E7: Gas, Prod or Other Related | F7: Transmission Related | G7: Plant Related | H7: Labor Related
A9: ADIT-190
A10: 1 | B10: Balance-BOY (Att 11c, Line 34, col b, d, f, h, j) | C10: 2027 | D10: ='Att 11c - ADIT Balance'!C40 -> 6340436 | E10: ='Att 11c - ADIT Balance'!E40 -> 0 | F10: ='Att 11c - ADIT Balance'!G40 -> 6340436 | G10: ='Att 11c - ADIT Balance'!I40 -> 0 | H10: ='Att 11c - ADIT Balance'!K40 -> 0
A11: 2 | B11: Balance-EOY (Att 11c, Line 34, less Line 30, col c, e, g, i, k) | C11: 2027 | D11: ='Att 11c - ADIT Balance'!D40-'Att 11c - ADIT Balance'!D36 -> 0 | E11: ='Att 11c - ADIT Balance'!F40-'Att 11c - ADIT Balance'!F36 -> 0 | F11: ='Att 11c - ADIT Balance'!H40-'Att 11c - ADIT Balance'!H36 -> 0 | G11: ='Att 11c - ADIT Balance'!J40-'Att 11c - ADIT Balance'!J36 -> 0 | H11: ='Att 11c - ADIT Balance'!L40-'Att 11c - ADIT Balance'!L36 -> 0
A12: 3 | B12: EOY Prorated (Att 11b, Line 14, col e, g, i, k, m) | C12: 2027 | D12: ='Att 11b - ADIT Proration'!F23 -> 5754898 | E12: ='Att 11b - ADIT Proration'!N23 -> 0 | F12: ='Att 11b - ADIT Proration'!H23 -> 6069189.4 | G12: ='Att 11b - ADIT Proration'!J23 -> 0 | H12: ='Att 11b - ADIT Proration'!L23 -> 0
A13: 4 | B13: Balance-EOY (Lines 2+3) | C13: 2027 | D13: =D11+D12 -> 5754898 | E13: =E11+E12 -> 0 | F13: =F11+F12 -> 6069189.4 | G13: =G11+G12 -> 0 | H13: =H11+H12 -> 0
A14: 5 | B14: ADIT 190-Average Total | D14: =AVERAGE(D10,D13) -> 6047667 | E14: =AVERAGE(E10,E13) -> 0 | F14: =AVERAGE(F10,F13) -> 6204812.7 | G14: =AVERAGE(G10,G13) -> 0 | H14: =AVERAGE(H10,H13) -> 0
A16: ADIT-282
A17: 6 | B17: Balance-BOY (Att 11c, Line 66, col b, d, f, h, j) | C17: 2027 | D17: ='Att 11c - ADIT Balance'!C82 -> 0 | E17: ='Att 11c - ADIT Balance'!E82 -> 0 | F17: ='Att 11c - ADIT Balance'!G82 -> 0 | G17: ='Att 11c - ADIT Balance'!I82 -> 0 | H17: ='Att 11c - ADIT Balance'!K82 -> 0
A18: 7 | B18: Balance-EOY (Att 11c, Line 66, less Line 62, col c, e, g, i k) | C18: 2027 | D18: ='Att 11c - ADIT Balance'!D82-'Att 11c - ADIT Balance'!D78 -> 0 | E18: ='Att 11c - ADIT Balance'!F82-'Att 11c - ADIT Balance'!F78 -> 0 | F18: ='Att 11c - ADIT Balance'!H82-'Att 11c - ADIT Balance'!H78 -> 0 | G18: ='Att 11c - ADIT Balance'!J82-'Att 11c - ADIT Balance'!J78 -> 0 | H18: ='Att 11c - ADIT Balance'!L82-'Att 11c - ADIT Balance'!L78 -> 0
A19: 8 | B19: EOY Prorated (Att 11b, Line 28, col e, g, i, k, m) | C19: 2027 | D19: ='Att 11b - ADIT Proration'!F39 -> 0 | E19: ='Att 11b - ADIT Proration'!N39 -> 0 | F19: ='Att 11b - ADIT Proration'!H39 -> 0 | G19: ='Att 11b - ADIT Proration'!J39 -> 0 | H19: ='Att 11b - ADIT Proration'!L39 -> 0
A20: 9 | B20: Balance-EOY (Lines 7+8) | C20: 2027 | D20: =D18+D19 -> 0 | E20: =E18+E19 -> 0 | F20: =F18+F19 -> 0 | G20: =G18+G19 -> 0 | H20: =H18+H19 -> 0
A21: 10 | B21: ADIT 282-Average Total | D21: =AVERAGE(D17,D20) -> 0 | E21: =AVERAGE(E17,E20) -> 0 | F21: =AVERAGE(F17,F20) -> 0 | G21: =AVERAGE(G17,G20) -> 0 | H21: =AVERAGE(H17,H20) -> 0
A23: ADIT-283
A24: 11 | B24: Balance-BOY (Att 11c, Line 100, col b, d, f, h, j) | C24: 2027 | D24: ='Att 11c - ADIT Balance'!C126 -> -5390974 | E24: ='Att 11c - ADIT Balance'!E126 -> 0 | F24: ='Att 11c - ADIT Balance'!G126 -> -5390974 | G24: ='Att 11c - ADIT Balance'!I126 -> 0 | H24: ='Att 11c - ADIT Balance'!K126 -> 0
A25: 12 | B25: Balance-EOY (Att 11c, Line 100, col c, e, g, i, k) | C25: 2027 | D25: ='Att 11c - ADIT Balance'!D126 -> -4312779 | E25: ='Att 11c - ADIT Balance'!F126 -> 0 | F25: ='Att 11c - ADIT Balance'!H126 -> -4312779 | G25: ='Att 11c - ADIT Balance'!J126 -> 0 | H25: ='Att 11c - ADIT Balance'!L126 -> 0
A26: 13 | B26: ADIT 283-Average Total | D26: =AVERAGE(D24,D25) -> -4851876.5 | E26: =AVERAGE(E24,E25) -> 0 | F26: =AVERAGE(F24,F25) -> -4851876.5 | G26: =AVERAGE(G24,G25) -> 0 | H26: =AVERAGE(H24,H25) -> 0
B31: A | D31: B | E31: C | F31: D | G31: E
A32: Line No. | B32: Item | D32: Transmission Related | E32: Plant Related | F32: Labor Related | G32: Total
A34: 14 | B34: ADIT 190-Average Total | D34: =F14 -> 6204812.7 | E34: =G14 -> 0 | F34: =H14 -> 0 | G34: =SUM(D34:F34) -> 6204812.7 | H34: Line 5
A35: 15 | B35: Wages & Salary Allocator | D35: N/A | E35: N/A | F35: 0
A36: 16 | B36: Net Plant Allocator | D36: N/A | E36: 0 | F36: N/A
A37: 17 | B37: Transmission Plant Allocator | D37: 1 | E37: N/A | F37: N/A
A38: 18 | B38: ADIT 190-Average Total, Allocated | D38: =D34*D37 -> 6204812.7 | E38: =E34*E36 -> 0 | F38: =F34*F35 -> 0 | G38: =SUM(D38:F38) -> 6204812.7 | H38: to Appendix III, Page 2, Line 22
A41: 19 | B41: ADIT 282-Average Total | D41: =F21 -> 0 | E41: =G21 -> 0 | F41: =H21 -> 0 | G41: =SUM(D41:F41) -> 0 | H41: Line 10
A42: 20 | B42: Wages & Salary Allocator | D42: N/A | E42: N/A | F42: =F35 -> 0
A43: 21 | B43: Net Plant Allocator | D43: N/A | E43: =E36 -> 0 | F43: N/A
A44: 22 | B44: Transmission Plant Allocator | D44: =D37 -> 1 | E44: N/A | F44: N/A
A45: 23 | B45: ADIT 282-Average Total, Allocated | D45: =D41*D44 -> 0 | E45: =E41*E43 -> 0 | F45: =F41*F42 -> 0 | G45: =SUM(D45:F45) -> 0 | H45: to Appendix III, Page 2, Line 20
A48: 24 | B48: ADIT 283-Average Total | D48: =F26 -> -4851876.5 | E48: =G26 -> 0 | F48: =H26 -> 0 | G48: =SUM(D48:F48) -> -4851876.5 | H48: Line 13
A49: 25 | B49: Wages & Salary Allocator | D49: N/A | E49: N/A | F49: =F42 -> 0
A50: 26 | B50: Net Plant Allocator | D50: N/A | E50: =E43 -> 0 | F50: N/A
A51: 27 | B51: Transmission Plant Allocator | D51: =D44 -> 1 | E51: N/A | F51: N/A
A52: 28 | B52: ADIT 283-Average Total, Allocated | D52: =D48*D51 -> -4851876.5 | E52: =E48*E50 -> 0 | F52: =F48*F49 -> 0 | G52: =SUM(D52:F52) -> -4851876.5 | H52: to Appendix III, Page 2, Line 21

Sheet Att 11b - ADIT Proration
A1: Attachment 11b
A2: Accumulated Deferred Income Taxes (ADIT) Worksheet (Proration)
A3: California Grid Holdings LLC
B6: (a) | C6: (b) | D6: (c) | E6: (d) | F6: (e) | G6: (f) | H6: (g) | I6: (h) | J6: (i) | K6: (j) | L6: (k) | M6: (l) | N6: (m)
A7: Line No. | B7: Beginning Balance & Monthly Changes | C7: Month | D7: Year | E7: Weighting for Projection | F7: Beginning Balance/ | G7: Transmission | H7: Transmission Proration | I7: Plant Related | J7: Plant Proration | K7: Labor Related | L7: Labor Proration | M7: Gas, Prod or Other Related | N7: Gas, Prod or Other Related
F8: Monthly Increment | H8: (d) x (f) | J8: (d) x (h) | L8: (d) x (j) | N8: (d) x (l)
A9: ADIT-190-Proration-Note A
A10: 1 | B10: Balance (Att 11c, Line 30) | C10: December | D10: 2027 | E10: =365/365 -> 1 | F10: ='Att 11c - ADIT Balance'!C36 -> 6340436 | G10: ='Att 11c - ADIT Balance'!G36 -> 6340436 | H10: =E10*G10 -> 6340436 | I10: ='Att 11c - ADIT Balance'!I36 -> 0 | J10: =E10*I10 -> 0 | K10: ='Att 11c - ADIT Balance'!K36 -> 0 | L10: =E10*K10 -> 0 | M10: ='Att 11c - ADIT Balance'!E36 -> 0 | N10: =E10*M10 -> 0
A11: 2 | B11: Increment | C11: January | D11: 2027 | E11: =335/365 -> 0.91780822 | F11: -48795 | G11: -48795 | H11: =E11*G11 -> -44784.452 | J11: =E11*I11 -> 0 | L11: =E11*K11 -> 0 | N11: =E11*M11 -> 0
A12: 3 | B12: Increment | C12: February | D12: 2027 | E12: =307/365 -> 0.84109589 | F12: -48795 | G12: -48795 | H12: =E12*G12 -> -41041.274 | J12: =E12*I12 -> 0 | L12: =E12*K12 -> 0 | N12: =E12*M12 -> 0
A13: 4 | B13: Increment | C13: March | D13: 2027 | E13: =276/365 -> 0.75616438 | F13: -48795 | G13: -48795 | H13: =E13*G13 -> -36897.041 | J13: =E13*I13 -> 0 | L13: =E13*K13 -> 0 | N13: =E13*M13 -> 0
